BEGIN:VCALENDAR
VERSION:2.0
PRODID:SchoolNow
CALSCALE:GREGORIAN
BEGIN:VEVENT
UID:b26bf4ce-618e-11f0-b890-0e59f692aa7b
DTSTAMP:20250715T151635Z
SUMMARY:Board of Education Meeting
URL;VALUE=URI:https://www.urs86.org/boe/calendar/8416681/board-of-education
 -meeting-clone
DTSTART:20260721T233000Z
DTEND:20260722T023000Z
END:VEVENT
END:VCALENDAR
