BEGIN:VCALENDAR
VERSION:2.0
PRODID:SchoolNow
CALSCALE:GREGORIAN
BEGIN:VEVENT
UID:a7ace0b6-618e-11f0-b9a9-0294a2314d23
DTSTAMP:20250715T151617Z
SUMMARY:Board of Education Meeting
URL;VALUE=URI:https://www.urs86.org/boe/calendar/8416680/board-of-education
 -meeting-clone
DTSTART:20260616T233000Z
DTEND:20260617T023000Z
END:VEVENT
END:VCALENDAR
