BEGIN:VCALENDAR
VERSION:2.0
PRODID:SchoolNow
CALSCALE:GREGORIAN
BEGIN:VEVENT
UID:9d780b66-618e-11f0-8e00-0a58a9feac02
DTSTAMP:20250715T151600Z
SUMMARY:Board of Education Meeting
URL;VALUE=URI:https://www.urs86.org/boe/calendar/8416679/board-of-education
 -meeting-clone
DTSTART:20260519T233000Z
DTEND:20260520T023000Z
END:VEVENT
END:VCALENDAR
