BEGIN:VCALENDAR
VERSION:2.0
PRODID:SchoolNow
CALSCALE:GREGORIAN
BEGIN:VEVENT
UID:91647d32-618e-11f0-b870-0a58a9feac02
DTSTAMP:20260420T132224Z
SUMMARY:Board of Education Meeting
URL;VALUE=URI:https://www.urs86.org/boe/calendar/8416678/board-of-education
 -meeting-clone
DTSTART:20260421T233000Z
DTEND:20260422T023000Z
END:VEVENT
END:VCALENDAR
