BEGIN:VCALENDAR
VERSION:2.0
PRODID:SchoolNow
CALSCALE:GREGORIAN
BEGIN:VEVENT
UID:88d68480-618e-11f0-9df9-0a58a9feac02
DTSTAMP:20260317T162434Z
SUMMARY:Board of Education Meeting - Meeting on Wednesday due to Gubernator
 ial Primary Election
URL;VALUE=URI:https://www.urs86.org/boe/calendar/8416677/board-of-education
 -meeting-clone
DTSTART:20260318T233000Z
DTEND:20260319T023000Z
END:VEVENT
END:VCALENDAR
