BEGIN:VCALENDAR
VERSION:2.0
PRODID:SchoolNow
CALSCALE:GREGORIAN
BEGIN:VEVENT
UID:57f69b98-618e-11f0-991c-0a58a9feac02
DTSTAMP:20260420T172134Z
SUMMARY:Board of Education Meeting
URL;VALUE=URI:https://www.urs86.org/boe/calendar/8416675/board-of-education
 -meeting-clone
DTSTART:20260218T003000Z
DTEND:20260218T033000Z
END:VEVENT
END:VCALENDAR
