BEGIN:VCALENDAR
VERSION:2.0
PRODID:SchoolNow
CALSCALE:GREGORIAN
BEGIN:VEVENT
UID:4d1d438e-618e-11f0-8704-0a58a9feac02
DTSTAMP:20260420T172104Z
SUMMARY:Board of Education Meeting
URL;VALUE=URI:https://www.urs86.org/boe/calendar/8416674/board-of-education
 -meeting-clone
DTSTART:20260121T003000Z
DTEND:20260121T033000Z
END:VEVENT
END:VCALENDAR
