BEGIN:VCALENDAR
VERSION:2.0
PRODID:SchoolNow
CALSCALE:GREGORIAN
BEGIN:VEVENT
UID:3f15bed8-618e-11f0-b673-0a58a9feac02
DTSTAMP:20260121T162143Z
SUMMARY:Board of Education Meeting - Regular Meeting & Tax Levy Meeting
URL;VALUE=URI:https://www.urs86.org/boe/calendar/8416673/board-of-education
 -meeting-clone
DTSTART:20251217T003000Z
DTEND:20251217T033000Z
END:VEVENT
END:VCALENDAR
