BEGIN:VCALENDAR
VERSION:2.0
PRODID:SchoolNow
CALSCALE:GREGORIAN
BEGIN:VEVENT
UID:24bfe7e8-618e-11f0-b133-0a58a9feac02
DTSTAMP:20251217T160713Z
SUMMARY:Board of Education Meeting
URL;VALUE=URI:https://www.urs86.org/boe/calendar/8416672/board-of-education
 -meeting-clone
DTSTART:20251119T003000Z
DTEND:20251119T033000Z
END:VEVENT
END:VCALENDAR
