BEGIN:VCALENDAR
VERSION:2.0
PRODID:SchoolNow
CALSCALE:GREGORIAN
BEGIN:VEVENT
UID:ff98d362-618d-11f0-8f31-0a58a9feac02
DTSTAMP:20251119T172853Z
SUMMARY:Board of Education Meeting
URL;VALUE=URI:https://www.urs86.org/boe/calendar/8416671/board-of-education
 -meeting-clone
DTSTART:20251021T233000Z
DTEND:20251022T023000Z
END:VEVENT
END:VCALENDAR
