BEGIN:VCALENDAR
VERSION:2.0
PRODID:SchoolNow
CALSCALE:GREGORIAN
BEGIN:VEVENT
UID:ea55e9e0-618d-11f0-94fc-0a58a9feac02
DTSTAMP:20251113T212036Z
SUMMARY:Board of Education Meeting - Regular Meeting and Budget Meeting
URL;VALUE=URI:https://www.urs86.org/boe/calendar/8416670/board-of-education
 -meeting-clone
DTSTART:20250916T233000Z
DTEND:20250917T023000Z
END:VEVENT
END:VCALENDAR
