BEGIN:VCALENDAR
VERSION:2.0
PRODID:SchoolNow
CALSCALE:GREGORIAN
BEGIN:VEVENT
UID:cd1e458a-4527-11ef-b5c0-02310d3a2033
DTSTAMP:20250911T155731Z
SUMMARY:Board of Education Meeting
LOCATION:Union Ridge School
URL;VALUE=URI:https://www.urs86.org/boe/calendar/6278650/board-of-education
 -meeting-clone-clone-clone-clone-clone-clone-clone-clone-clone
DTSTART:20250617T233000Z
DTEND:20250618T003000Z
END:VEVENT
END:VCALENDAR
