BEGIN:VCALENDAR
VERSION:2.0
PRODID:SchoolNow
CALSCALE:GREGORIAN
BEGIN:VEVENT
UID:1ed3a8ba-f017-11e7-85ef-12ab0700f25a
DTSTAMP:20180710T140301Z
SUMMARY:Board of Education Meeting
DESCRIPTION:Union Ridge School Conference Room
URL;VALUE=URI:https://www.urs86.org/boe/calendar/1684948/board-of-education
 -meeting
DTSTART:20180719T233000Z
DTEND:20180720T045900Z
END:VEVENT
END:VCALENDAR
